BEGIN:VCALENDAR
VERSION:2.0
PRODID:-//eventon.com NONSGML v1.0//EN
CALSCALE:GREGORIAN
METHOD:PUBLISH
BEGIN:VEVENT
UID:69e6eb503a1e3
DTSTAMP:20260421T031320Z
DTSTART:20241206T150000Z
DTEND:20241206T180000Z
LOCATION:
SUMMARY:Verkauf im Pop-Up Store
DESCRIPTION:Verkauf im Pop-Up Store\nhttps://www.malika.at/events/verkauf-i
 m-pop-up-store-5/
URL:https://www.malika.at/events/verkauf-im-pop-up-store-5/
END:VEVENT
END:VCALENDAR